BEGIN:VCALENDAR
VERSION:2.0
PRODID:-//SpringBranch.Vote - ECPv6.15.20//NONSGML v1.0//EN
CALSCALE:GREGORIAN
METHOD:PUBLISH
X-ORIGINAL-URL:https://springbranch.vote
X-WR-CALDESC:Events for SpringBranch.Vote
REFRESH-INTERVAL;VALUE=DURATION:PT1H
X-Robots-Tag:noindex
X-PUBLISHED-TTL:PT1H
BEGIN:VTIMEZONE
TZID:UTC
BEGIN:STANDARD
TZOFFSETFROM:+0000
TZOFFSETTO:+0000
TZNAME:UTC
DTSTART:20230101T000000
END:STANDARD
END:VTIMEZONE
BEGIN:VEVENT
DTSTART;TZID=UTC:20250121T190000
DTEND;TZID=UTC:20250121T200000
DTSTAMP:20260420T132351
CREATED:20241129T032108Z
LAST-MODIFIED:20241130T022935Z
UID:1637-1737486000-1737489600@springbranch.vote
SUMMARY:Northwest Civic PIP
DESCRIPTION:
URL:https://springbranch.vote/event/northwest-civic-pip/
LOCATION:Faith Center\, 8009 Long Point Road\, Houston\, TX\, 77055\, United States
CATEGORIES:PIP
END:VEVENT
BEGIN:VEVENT
DTSTART;VALUE=DATE:20250120
DTEND;VALUE=DATE:20250121
DTSTAMP:20260420T132351
CREATED:20241208T173322Z
LAST-MODIFIED:20241208T173422Z
UID:1919-1737331200-1737417599@springbranch.vote
SUMMARY:Spring Branch ISD Students/Staff Holiday
DESCRIPTION:
URL:https://springbranch.vote/event/spring-branch-isd-students-staff-holiday-2/
LOCATION:TX
CATEGORIES:Holiday
END:VEVENT
BEGIN:VEVENT
DTSTART;TZID=UTC:20250114T190000
DTEND;TZID=UTC:20250114T200000
DTSTAMP:20260420T132351
CREATED:20241129T031442Z
LAST-MODIFIED:20241130T022953Z
UID:1634-1736881200-1736884800@springbranch.vote
SUMMARY:Chief's Citywide PIP
DESCRIPTION:
URL:https://springbranch.vote/event/chiefs-citywide-pip/
LOCATION:Positive Interaction Program (PIP)\, 1602 State Street\, Houston\, TX\, 77007\, United States
CATEGORIES:PIP
END:VEVENT
BEGIN:VEVENT
DTSTART;VALUE=DATE:20250114
DTEND;VALUE=DATE:20250528
DTSTAMP:20260420T132351
CREATED:20241130T022846Z
LAST-MODIFIED:20241130T022846Z
UID:1746-1736812800-1748390399@springbranch.vote
SUMMARY:89th Texas Legislature
DESCRIPTION:
URL:https://springbranch.vote/event/89th-texas-legislature/
LOCATION:Texas State Capitol Building\, 201 E 14th Street\, Austin\, TX\, 78701\, United States
CATEGORIES:Texas Legislature
END:VEVENT
BEGIN:VEVENT
DTSTART;VALUE=DATE:20250106
DTEND;VALUE=DATE:20250107
DTSTAMP:20260420T132351
CREATED:20241208T173229Z
LAST-MODIFIED:20241208T173352Z
UID:1917-1736121600-1736207999@springbranch.vote
SUMMARY:Spring Branch ISD Students Holiday
DESCRIPTION:
URL:https://springbranch.vote/event/spring-branch-isd-students-holiday/
LOCATION:TX
END:VEVENT
BEGIN:VEVENT
DTSTART;VALUE=DATE:20241230
DTEND;VALUE=DATE:20250104
DTSTAMP:20260420T132351
CREATED:20241208T173126Z
LAST-MODIFIED:20241208T173411Z
UID:1915-1735516800-1735948799@springbranch.vote
SUMMARY:Spring Branch ISD Students/Staff Holiday
DESCRIPTION:
URL:https://springbranch.vote/event/spring-branch-isd-students-staff-holiday-3/
LOCATION:TX
CATEGORIES:Holiday
END:VEVENT
BEGIN:VEVENT
DTSTART;VALUE=DATE:20241225
DTEND;VALUE=DATE:20241226
DTSTAMP:20260420T132351
CREATED:20241129T033604Z
LAST-MODIFIED:20241130T023042Z
UID:1648-1735084800-1735171199@springbranch.vote
SUMMARY:Christmas
DESCRIPTION:
URL:https://springbranch.vote/event/christmas/
LOCATION:TX
CATEGORIES:Holiday
END:VEVENT
BEGIN:VEVENT
DTSTART;VALUE=DATE:20241223
DTEND;VALUE=DATE:20241228
DTSTAMP:20260420T132351
CREATED:20241208T173029Z
LAST-MODIFIED:20241208T173029Z
UID:1913-1734912000-1735343999@springbranch.vote
SUMMARY:Spring Branch ISD Students/Staff Holiday
DESCRIPTION:
URL:https://springbranch.vote/event/spring-branch-isd-students-staff-holiday/
LOCATION:TX
CATEGORIES:Holiday
END:VEVENT
BEGIN:VEVENT
DTSTART;TZID=UTC:20241219T190000
DTEND;TZID=UTC:20241219T200000
DTSTAMP:20260420T132351
CREATED:20241129T032803Z
LAST-MODIFIED:20241130T023104Z
UID:1645-1734634800-1734638400@springbranch.vote
SUMMARY:SMBD Spring Branch Super Neighborhood East
DESCRIPTION:
URL:https://springbranch.vote/event/smbd-spring-branch-super-neighborhood-east/
LOCATION:Harris County Assessor\, 1414 Wirt Road\, Houston\, TX\, 77055\, United States
CATEGORIES:SBMD
END:VEVENT
BEGIN:VEVENT
DTSTART;TZID=UTC:20241216T184500
DTEND;TZID=UTC:20241216T200000
DTSTAMP:20260420T132351
CREATED:20241214T192937Z
LAST-MODIFIED:20241214T193241Z
UID:2005-1734374700-1734379200@springbranch.vote
SUMMARY:Spring Shadows Civic Association Board of Director's Meeting
DESCRIPTION:The SSCA BOD Meeting will be held at the SSCA Office on Monday\, December\, 2024\, at 6:45 p.m.  The office is located at 10355 Centrepark Drive\, Suite 220\, Houston\, TX  77043.  See agenda here.
URL:https://springbranch.vote/event/spring-shadows-civic-association-board-of-directors-meeting-2/
LOCATION:SSCA Office\, 10355 Centrepark Drive\, Suite 220\, Houston\, TX\, United States
END:VEVENT
BEGIN:VEVENT
DTSTART;TZID=UTC:20241211T130000
DTEND;TZID=UTC:20241211T140000
DTSTAMP:20260420T132351
CREATED:20241129T032548Z
LAST-MODIFIED:20241130T023122Z
UID:1643-1733922000-1733925600@springbranch.vote
SUMMARY:SBMD Business and Economic Development Committee Meeting
DESCRIPTION:
URL:https://springbranch.vote/event/sbmd-business-and-economic-development-committee-meeting/
LOCATION:Spring Branch Management District\, 9600 Long Point Road\, Suite 250\, Houston\, TX\, 77055\, United States
CATEGORIES:SBMD
END:VEVENT
BEGIN:VEVENT
DTSTART;TZID=UTC:20241211T120000
DTEND;TZID=UTC:20241211T130000
DTSTAMP:20260420T132351
CREATED:20241129T030242Z
LAST-MODIFIED:20241130T023116Z
UID:1631-1733918400-1733922000@springbranch.vote
SUMMARY:SBMD Public Safety Committee
DESCRIPTION:
URL:https://springbranch.vote/event/sbmd-public-safety-committee/
LOCATION:Spring Branch Management District\, 9600 Long Point Road\, Suite 250\, Houston\, TX\, 77055\, United States
CATEGORIES:SBMD
END:VEVENT
BEGIN:VEVENT
DTSTART;TZID=UTC:20241211T100000
DTEND;TZID=UTC:20241211T110000
DTSTAMP:20260420T132351
CREATED:20241129T032447Z
LAST-MODIFIED:20241130T023109Z
UID:1641-1733911200-1733914800@springbranch.vote
SUMMARY:SBMD Environmental and Urban Design Committee Meeting
DESCRIPTION:
URL:https://springbranch.vote/event/sbmd-environmental-and-urban-design-committee-meeting/
LOCATION:Spring Branch Management District\, 9600 Long Point Road\, Suite 250\, Houston\, TX\, 77055\, United States
CATEGORIES:SBMD
END:VEVENT
BEGIN:VEVENT
DTSTART;TZID=UTC:20241211T090000
DTEND;TZID=UTC:20241211T100000
DTSTAMP:20260420T132351
CREATED:20241202T154147Z
LAST-MODIFIED:20241202T154243Z
UID:1870-1733907600-1733911200@springbranch.vote
SUMMARY:SBMD Comprehensive Planning Committee Meeting
DESCRIPTION:
URL:https://springbranch.vote/event/sbmd-comprehensive-planning-committee-meeting/
LOCATION:Spring Branch Management District\, 9600 Long Point Road\, Suite 250\, Houston\, TX\, 77055\, United States
END:VEVENT
BEGIN:VEVENT
DTSTART;TZID=UTC:20241210T183000
DTEND;TZID=UTC:20241210T200000
DTSTAMP:20260420T132351
CREATED:20241129T001520Z
LAST-MODIFIED:20241130T023202Z
UID:1622-1733855400-1733860800@springbranch.vote
SUMMARY:Old Spring Branch Civic Association Quarterly Membership Meeting
DESCRIPTION:
URL:https://springbranch.vote/event/old-spring-branch-civic-association-quarterly-membership-meeting/
LOCATION:Trini Mendenhall Community Center\, 1414 Wirt Road\, Houston\, TX\, 77055\, United States
CATEGORIES:Civic Association
END:VEVENT
BEGIN:VEVENT
DTSTART;TZID=UTC:20241210T100000
DTEND;TZID=UTC:20241210T110000
DTSTAMP:20260420T132351
CREATED:20241209T130608Z
LAST-MODIFIED:20241209T130935Z
UID:1929-1733824800-1733828400@springbranch.vote
SUMMARY:City of Houston Public Safety Committee
DESCRIPTION:Agenda \nCity Council Committee Meeting \nTuesday\, December 10\, 2024\, at 10:00 A.M. \nYou have the option to participate in the meeting either in person or virtually via Microsoft Teams. The chair\, as the presiding officer\, will be physically present at the chamber. \nPlease note that the meeting is open to the public. According to Section 551.127 of the Texas Government Code\, all committee members who represent counties extending into three or more counties are allowed to choose their mode of participation. \nMicrosoft Teams Live Meeting – type this link into your browser here. Please dial 936-755-1521 to speak at the Committee. Presentation handouts will also be available at: https://www.houstontx.gov/council/committees/publicsafety.html This meeting will also be broadcast on HTV\, the City of Houston’s Municipal Channel. \n1. Welcoming remarks  Amy Peck\, Council Member\, Chair  Tarsha Jackson\, Council Member\, Vice Chair \n2. Presentation: Special Response Group & HPD High Water Rescue Operations  Assistant Chief Megan Howard \n3. Presentation: HPD Mounted Patrol Introduction  Commander Ryan Watson \n4. Presentation: Greater Harris County 9-1-1 Emergency Network Budget  Richard Corbit  Roger Hauck  Roderick Jackson \n5. Public comments  To sign up for public comment\, please fill out the form here before 4:00 P.M. on Monday\, December 9th\, 2024. Please indicate whether you will be speaking virtually or in- person. Public speakers wishing to continue under virtual mode will receive a call-in number that will allow them to speak at their designated time. \nCommittee meetings are open to the public. For information about this committee\, please contact Liz Miranda at DistrictA@houstontx.gov\, or 832-393-3010
URL:https://springbranch.vote/event/city-of-houston-public-safety-committee/
LOCATION:TX
CATEGORIES:City of Houston
END:VEVENT
BEGIN:VEVENT
DTSTART;TZID=UTC:20241205T183000
DTEND;TZID=UTC:20241205T190000
DTSTAMP:20260420T132351
CREATED:20241124T190948Z
LAST-MODIFIED:20241129T041405Z
UID:1497-1733423400-1733425200@springbranch.vote
SUMMARY:SBMD Spring Branch Super Neighborhood Central
DESCRIPTION:
URL:https://springbranch.vote/event/sbmd-spring-branch-super-neighborhood-central/
LOCATION:VFW Post 8790\, 1560 Veterans of Foreign Wars Way\, Second Floor\, Houston\, TX\, 77055
CATEGORIES:SBMD
END:VEVENT
BEGIN:VEVENT
DTSTART;TZID=UTC:20241105T070000
DTEND;TZID=UTC:20241105T190000
DTSTAMP:20260420T132351
CREATED:20241013T172930Z
LAST-MODIFIED:20241013T172930Z
UID:1155-1730790000-1730833200@springbranch.vote
SUMMARY:Election Day
DESCRIPTION:Link to Voting Information
URL:https://springbranch.vote/event/election-day/
LOCATION:TX
CATEGORIES:Voting Activities
END:VEVENT
BEGIN:VEVENT
DTSTART;TZID=UTC:20241101T070000
DTEND;TZID=UTC:20241101T190000
DTSTAMP:20260420T132351
CREATED:20241013T173704Z
LAST-MODIFIED:20241013T173704Z
UID:1166-1730444400-1730487600@springbranch.vote
SUMMARY:Early Voting (Nov 1)
DESCRIPTION:Link to Voting Information
URL:https://springbranch.vote/event/early-voting-nov-1/
LOCATION:TX
CATEGORIES:Voting Activities
END:VEVENT
BEGIN:VEVENT
DTSTART;TZID=UTC:20241031T070000
DTEND;TZID=UTC:20241031T210000
DTSTAMP:20260420T132351
CREATED:20241013T173558Z
LAST-MODIFIED:20241013T173559Z
UID:1164-1730358000-1730408400@springbranch.vote
SUMMARY:Early Voting (Oct 31)
DESCRIPTION:Link to Voting Information
URL:https://springbranch.vote/event/early-voting-oct-31/
LOCATION:TX
CATEGORIES:Voting Activities
END:VEVENT
BEGIN:VEVENT
DTSTART;TZID=UTC:20241028T070000
DTEND;TZID=UTC:20241030T200000
DTSTAMP:20260420T132351
CREATED:20241013T173343Z
LAST-MODIFIED:20241013T173426Z
UID:1162-1730098800-1730318400@springbranch.vote
SUMMARY:Early Voting (Oct 28 - Oct 30)
DESCRIPTION:Link to Voting Information
URL:https://springbranch.vote/event/early-voting-oct-28-oct-30/
LOCATION:TX
CATEGORIES:Voting Activities
END:VEVENT
BEGIN:VEVENT
DTSTART;TZID=UTC:20241027T120000
DTEND;TZID=UTC:20241027T190000
DTSTAMP:20260420T132351
CREATED:20241013T173235Z
LAST-MODIFIED:20241013T173235Z
UID:1159-1730030400-1730055600@springbranch.vote
SUMMARY:Early Voting (Oct 27)
DESCRIPTION:Link to Voting Information
URL:https://springbranch.vote/event/early-voting-oct-27/
LOCATION:TX
CATEGORIES:Voting Activities
END:VEVENT
BEGIN:VEVENT
DTSTART;VALUE=DATE:20241025
DTEND;VALUE=DATE:20241026
DTSTAMP:20260420T132351
CREATED:20241013T171552Z
LAST-MODIFIED:20241013T171552Z
UID:1150-1729814400-1729900799@springbranch.vote
SUMMARY:Last day to register to vote
DESCRIPTION:Link for Registration Information \nWhere to Register to Vote\nRegistering to vote is fast and easy! Simply complete a Voter Registration Application and mail the signed application (at least 30 days before the election date) to:\nANN HARRIS BENNETT\nTax Assessor-Collector & Voter Registrar\nP.O. Box 3527\nHouston\, Texas 77253-3527
URL:https://springbranch.vote/event/last-day-to-register-to-vote/
LOCATION:TX
CATEGORIES:Voting Activities
END:VEVENT
BEGIN:VEVENT
DTSTART;TZID=UTC:20241021T070000
DTEND;TZID=UTC:20241026T190000
DTSTAMP:20260420T132351
CREATED:20241013T172545Z
LAST-MODIFIED:20241013T173141Z
UID:1153-1729494000-1729969200@springbranch.vote
SUMMARY:Early Voting (Oct 21 - Oct 26)
DESCRIPTION:Link to Voting Information
URL:https://springbranch.vote/event/early-voting-oct-21-nov-1/
LOCATION:TX
CATEGORIES:Voting Activities
END:VEVENT
END:VCALENDAR