BEGIN:VCALENDAR
VERSION:2.0
PRODID:-//SpringBranch.Vote - ECPv6.15.20//NONSGML v1.0//EN
CALSCALE:GREGORIAN
METHOD:PUBLISH
X-WR-CALNAME:SpringBranch.Vote
X-ORIGINAL-URL:https://springbranch.vote
X-WR-CALDESC:Events for SpringBranch.Vote
REFRESH-INTERVAL;VALUE=DURATION:PT1H
X-Robots-Tag:noindex
X-PUBLISHED-TTL:PT1H
BEGIN:VTIMEZONE
TZID:UTC
BEGIN:STANDARD
TZOFFSETFROM:+0000
TZOFFSETTO:+0000
TZNAME:UTC
DTSTART:20240101T000000
END:STANDARD
END:VTIMEZONE
BEGIN:VEVENT
DTSTART;TZID=UTC:20250121T190000
DTEND;TZID=UTC:20250121T200000
DTSTAMP:20260420T155908
CREATED:20241129T032108Z
LAST-MODIFIED:20241130T022935Z
UID:1637-1737486000-1737489600@springbranch.vote
SUMMARY:Northwest Civic PIP
DESCRIPTION:
URL:https://springbranch.vote/event/northwest-civic-pip/
LOCATION:Faith Center\, 8009 Long Point Road\, Houston\, TX\, 77055\, United States
CATEGORIES:PIP
END:VEVENT
BEGIN:VEVENT
DTSTART;TZID=UTC:20250114T190000
DTEND;TZID=UTC:20250114T200000
DTSTAMP:20260420T155908
CREATED:20241129T031442Z
LAST-MODIFIED:20241130T022953Z
UID:1634-1736881200-1736884800@springbranch.vote
SUMMARY:Chief's Citywide PIP
DESCRIPTION:
URL:https://springbranch.vote/event/chiefs-citywide-pip/
LOCATION:Positive Interaction Program (PIP)\, 1602 State Street\, Houston\, TX\, 77007\, United States
CATEGORIES:PIP
END:VEVENT
END:VCALENDAR